BEGIN:VCALENDAR
VERSION:2.0
METHOD:PUBLISH
PRODID:-//imacoda.com//SPD-Web-O-Mat//EN
CALSCALE:GREGORIAN
BEGIN:VTIMEZONE
TZID:Europe/Berlin
BEGIN:DAYLIGHT
TZOFFSETFROM:+0100
RRULE:FREQ=YEARLY;BYMONTH=3;BYDAY=-1SU
DTSTART:19810329T020000
TZNAME:MESZ
TZOFFSETTO:+0200
END:DAYLIGHT
BEGIN:STANDARD
TZOFFSETFROM:+0200
RRULE:FREQ=YEARLY;BYMONTH=10;BYDAY=-1SU
DTSTART:19961027T030000
TZNAME:MEZ
TZOFFSETTO:+0100
END:STANDARD
END:VTIMEZONE
BEGIN:VEVENT
UID:20260423T141446Z-00001187754-LULU@www.bayernspd.de
CREATED:20260423T141446Z
LAST-MODIFIED:20260423T141446Z
DTSTAMP:20260423T141446Z
TRANSP:TRANSPARENT
DTSTART;TZID=Europe/Berlin:20260427T140000
DTEND;TZID=Europe/Berlin:20260427T150000
SUMMARY:Bürgersprechstunde bei MdB Christoph Schmid
LOCATION:Wahlkreisbüro Donauwörth\, Hindenburgstr. 16
DESCRIPTION:Termin im Web (SPD-Bezirk Schwaben):\nhttps://spd-schwaben.d
 e/termine/?id=1187754
END:VEVENT
END:VCALENDAR
